BEGIN:VCALENDAR
VERSION:2.0
PRODID:DPCALENDAR
CALSCALE:GREGORIAN
BEGIN:VTIMEZONE
TZID:Europe/Lisbon
X-MICROSOFT-CDO-TZID:2
BEGIN:STANDARD
DTSTART:20251026T010000
TZOFFSETFROM:+0100
TZOFFSETTO:+0000
TZNAME:WET
END:STANDARD
BEGIN:DAYLIGHT
DTSTART:20260329T010000
TZOFFSETFROM:+0000
TZOFFSETTO:+0100
TZNAME:WEST
END:DAYLIGHT
BEGIN:STANDARD
DTSTART:20261025T010000
TZOFFSETFROM:+0100
TZOFFSETTO:+0000
TZNAME:WET
END:STANDARD
END:VTIMEZONE
X-WR-TIMEZONE:Europe/Lisbon
BEGIN:VEVENT
DTSTART;VALUE=DATE:20170414
DTEND;VALUE=DATE:20170415
UID:11B01326-CB44-4DB3-943B-485103AE6A19
SUMMARY:Campanha de alerta para prevenção de maus tratos
DTSTAMP:20170417T132951Z
DESCRIPTION:
X-ALT-DESC;FMTTYPE=text/html:
LAST-MODIFIED:20170417T133046Z
X-ACCESS:1
X-HITS:5
X-URL:
X-COLOR:00D9D1
END:VEVENT
BEGIN:VEVENT
DTSTART;VALUE=DATE:20170420
DTEND;VALUE=DATE:20170421
UID:5782A0D9-7507-45CB-804B-D74CB21AA5F5
SUMMARY:Torneio "Nada Lá"
DTSTAMP:20170417T133111Z
DESCRIPTION:
X-ALT-DESC;FMTTYPE=text/html:
X-ACCESS:1
X-HITS:0
X-URL:
X-COLOR:00D9D1
END:VEVENT
BEGIN:VEVENT
DTSTART;VALUE=DATE:20170504
DTEND;VALUE=DATE:20170505
UID:98C4BBF4-636B-4445-8FCA-CEC4ADD9E3AE
SUMMARY:Lançamento da Campanha Pirilampo Mágico 2017
DTSTAMP:20170417T133411Z
DESCRIPTION:
X-ALT-DESC;FMTTYPE=text/html:
X-ACCESS:1
X-HITS:3
X-URL:
X-COLOR:00D9D1
END:VEVENT
END:VCALENDAR