BEGIN:VCALENDAR
VERSION:2.0
PRODID:DPCALENDAR
CALSCALE:GREGORIAN
BEGIN:VTIMEZONE
TZID:Europe/Lisbon
X-MICROSOFT-CDO-TZID:2
BEGIN:STANDARD
DTSTART:20251026T010000
TZOFFSETFROM:+0100
TZOFFSETTO:+0000
TZNAME:WET
END:STANDARD
BEGIN:DAYLIGHT
DTSTART:20260329T010000
TZOFFSETFROM:+0000
TZOFFSETTO:+0100
TZNAME:WEST
END:DAYLIGHT
BEGIN:STANDARD
DTSTART:20261025T010000
TZOFFSETFROM:+0100
TZOFFSETTO:+0000
TZNAME:WET
END:STANDARD
END:VTIMEZONE
X-WR-TIMEZONE:Europe/Lisbon
BEGIN:VEVENT
DTSTART;VALUE=DATE:20170505
DTEND;VALUE=DATE:20170529
UID:5041A447-34F7-40AC-BA7D-6BA506BDFB68
SUMMARY:Campanha Pirilampo Mágico 2017
DTSTAMP:20170417T133522Z
DESCRIPTION:
X-ALT-DESC;FMTTYPE=text/html:
LAST-MODIFIED:20170417T133624Z
X-ACCESS:1
X-HITS:5
X-URL:
X-COLOR:00D115
END:VEVENT
BEGIN:VEVENT
DTSTART;VALUE=DATE:20170530
DTEND;VALUE=DATE:20170531
UID:EEDD1367-54EE-480D-A772-A69F4E02E73F
SUMMARY:“Coffee Morning”na Cercica-IWP
DTSTAMP:20170417T133911Z
DESCRIPTION:
X-ALT-DESC;FMTTYPE=text/html:
X-ACCESS:1
X-HITS:3
X-URL:
X-COLOR:00D115
END:VEVENT
END:VCALENDAR