BEGIN:VCALENDAR
VERSION:2.0
PRODID:DPCALENDAR
CALSCALE:GREGORIAN
BEGIN:VTIMEZONE
TZID:Europe/Lisbon
X-MICROSOFT-CDO-TZID:2
BEGIN:STANDARD
DTSTART:20251026T010000
TZOFFSETFROM:+0100
TZOFFSETTO:+0000
TZNAME:WET
END:STANDARD
BEGIN:DAYLIGHT
DTSTART:20260329T010000
TZOFFSETFROM:+0000
TZOFFSETTO:+0100
TZNAME:WEST
END:DAYLIGHT
BEGIN:STANDARD
DTSTART:20261025T010000
TZOFFSETFROM:+0100
TZOFFSETTO:+0000
TZNAME:WET
END:STANDARD
END:VTIMEZONE
X-WR-TIMEZONE:Europe/Lisbon
BEGIN:VEVENT
DTSTART;VALUE=DATE:20170428
DTEND;VALUE=DATE:20170429
UID:B459B076-11A6-4A4B-8B32-B7625C891BE8
SUMMARY:Cerimónia de entrega de diplomas Formação Profissional
DTSTAMP:20170417T133156Z
DESCRIPTION:
X-ALT-DESC;FMTTYPE=text/html:
X-ACCESS:1
X-HITS:0
X-URL:
X-COLOR:DEDE00
END:VEVENT
BEGIN:VEVENT
DTSTART;VALUE=DATE:20170505
DTEND;VALUE=DATE:20170506
UID:B3FF11DF-0C4C-4E75-96D1-605735686DEE
SUMMARY:Presença da autora Maria Teresa Maia Gonzalez na escola “Éramos Um” para acção com o livro “Palavras com Beijo Dentro”.
DTSTAMP:20170417T133442Z
DESCRIPTION:
X-ALT-DESC;FMTTYPE=text/html:
LAST-MODIFIED:20170417T133446Z
X-ACCESS:1
X-HITS:2
X-URL:
X-COLOR:DEDE00
END:VEVENT
BEGIN:VEVENT
DTSTART;VALUE=DATE:20170508
DTEND;VALUE=DATE:20170509
UID:773E6978-4E36-487A-8AB1-A7F5007E9FE7
SUMMARY:Cerimónia entrega prémios Concurso Pirilampo Mágico
DTSTAMP:20170417T133650Z
DESCRIPTION:
X-ALT-DESC;FMTTYPE=text/html:
X-ACCESS:1
X-HITS:0
X-URL:
X-COLOR:DEDE00
END:VEVENT
BEGIN:VEVENT
DTSTART;VALUE=DATE:20170528
DTEND;VALUE=DATE:20170529
UID:15A7FD8F-26E7-4F61-BFDA-3C9221C651CA
SUMMARY:Caminhada Pirilampo Mágico
DTSTAMP:20170417T133851Z
DESCRIPTION:
X-ALT-DESC;FMTTYPE=text/html:
X-ACCESS:1
X-HITS:0
X-URL:
X-COLOR:DEDE00
END:VEVENT
BEGIN:VEVENT
DTSTART;VALUE=DATE:20170623
DTEND;VALUE=DATE:20170624
UID:58DBE108-79C9-4BD0-AA3D-ABCBD8AC6043
SUMMARY:Santos Populares
DTSTAMP:20170417T134008Z
DESCRIPTION:
X-ALT-DESC;FMTTYPE=text/html:
X-ACCESS:1
X-HITS:2
X-URL:
X-COLOR:DEDE00
END:VEVENT
BEGIN:VEVENT
DTSTART;TZID=Europe/Lisbon:20171125T100000
DTEND;TZID=Europe/Lisbon:20171125T180000
UID:7CB59415-C470-49D8-9D83-538979F425CA
SUMMARY:Feira de Natal
DTSTAMP:20171127T160249Z
DESCRIPTION:
X-ALT-DESC;FMTTYPE=text/html:
X-ACCESS:1
X-HITS:4
X-URL:
X-COLOR:DEDE00
END:VEVENT
END:VCALENDAR